BEGIN:VCALENDAR
VERSION:2.0
PRODID:-//https://calenda-formation.labocleo.org
X-WR-CALNAME:Calenda
X-WR-TIMEZONE:Europe/Paris
CALSCALE:GREGORIAN
X-WR-CALDESC:The calendar for arts, humanities and social sciences
METHOD:PUBLISH
BEGIN:VEVENT
DTSTART;VALUE=DATE:20140201
DTEND;VALUE=DATE:20140202
UID:261077-20140201@calenda.revues.org
SUMMARY:The University in the City: University Spaces and Their Uses in Europe\, 13th to 21st Centuries
URL:https://calenda-formation.labocleo.org/261077
DESCRIPTION:Since the 1960s\, the abundant historiography dedicated to European universities has focused on the social\, intellectual\, and political history of these institutions. The topic of university spaces within the city has been relatively neglected. When a… @plus_info https://calenda-formation.labocleo.org/261077
LOCATION:Créteil
END:VEVENT
END:VCALENDAR
