BEGIN:VCALENDAR
VERSION:2.0
PRODID:-//https://calenda-formation.labocleo.org
X-WR-CALNAME:Calenda
X-WR-TIMEZONE:Europe/Paris
CALSCALE:GREGORIAN
X-WR-CALDESC:The calendar for arts, humanities and social sciences
METHOD:PUBLISH
BEGIN:VEVENT
DTSTART;VALUE=DATE:20140201
DTEND;VALUE=DATE:20140202
UID:261330-20140201@calenda.revues.org
SUMMARY:Sport and the sixties
URL:https://calenda-formation.labocleo.org/261330
DESCRIPTION:Il est aujourd'hui admis que mai 68 n'est pas seulement un moment fondateur mais le point d’orgue de mutations engagées dès le début des années 60 par la « génération du baby-boom ». La « culture jeune » devient rapidement une culture de masse\, à une… @plus_info https://calenda-formation.labocleo.org/261330
LOCATION:Villeurbanne
END:VEVENT
END:VCALENDAR
