BEGIN:VCALENDAR
VERSION:2.0
PRODID:-//https://calenda-formation.labocleo.org
X-WR-CALNAME:Calenda
X-WR-TIMEZONE:Europe/Paris
CALSCALE:GREGORIAN
X-WR-CALDESC:The calendar for arts, humanities and social sciences
METHOD:PUBLISH
BEGIN:VEVENT
DTSTART;VALUE=DATE:20131016
DTEND;VALUE=DATE:20131017
UID:261666-20131016@calenda.revues.org
SUMMARY:The teaching of literature\, models and perspectives
URL:https://calenda-formation.labocleo.org/261666
DESCRIPTION:La journée d’étude organisée à Reims le mercredi 16 octobre 2013 poursuit un double objectif. D’une part\, il s’agira de faire le point sur quelques grands modèles qui traversent les représentations de professeurs dans leurs pratiques d’enseignement e… @plus_info https://calenda-formation.labocleo.org/261666
LOCATION:Reims
END:VEVENT
END:VCALENDAR
