BEGIN:VCALENDAR
VERSION:2.0
PRODID:-//https://calenda-formation.labocleo.org
X-WR-CALNAME:Calenda
X-WR-TIMEZONE:Europe/Paris
CALSCALE:GREGORIAN
X-WR-CALDESC:Le calendrier des lettres et sciences humaines et sociales
METHOD:PUBLISH
BEGIN:VEVENT
DTSTART;VALUE=DATE:20131215
DTEND;VALUE=DATE:20131216
UID:261907-20131215@calenda.revues.org
SUMMARY:La escritura poética : lugar de resistencia(s)
URL:https://calenda-formation.labocleo.org/261907
DESCRIPTION:Ante la segmentación del espacio\, ante la invitación a la docilidad y a la servidumbre\, la poesía invita a aportar una respuesta insumisa y desestabilizadora. Delimitando nuestro corpus de estudio al ámbito hispánico\, quisiéramos indagar y detenernos… Más informaciones https://calenda-formation.labocleo.org/261907
LOCATION:Limoges
END:VEVENT
END:VCALENDAR
