BEGIN:VCALENDAR
VERSION:2.0
PRODID:-//https://calenda-formation.labocleo.org
X-WR-CALNAME:Calenda
X-WR-TIMEZONE:Europe/Paris
CALSCALE:GREGORIAN
X-WR-CALDESC:Le calendrier des lettres et sciences humaines et sociales
METHOD:PUBLISH
BEGIN:VEVENT
DTSTART;VALUE=DATE:20131207
DTEND;VALUE=DATE:20131208
UID:262200-20131207@calenda.revues.org
SUMMARY:Les marges du travail et de l'emploi : formes\, enjeux\, processus
URL:https://calenda-formation.labocleo.org/262200
DESCRIPTION:Les quatorzièmes Journées internationales de sociologie du travail (JIST) organisées à Lille les 17\, 18 et 19 juin 2014 invitent les chercheurs à analyser les mondes du travail et de l’emploi à partir des marges\, envisagées en termes de processus\, de… @plus_info https://calenda-formation.labocleo.org/262200
LOCATION:Villeneuve-d'Ascq
END:VEVENT
END:VCALENDAR
