BEGIN:VCALENDAR
VERSION:2.0
PRODID:-//https://calenda-formation.labocleo.org
X-WR-CALNAME:Calenda
X-WR-TIMEZONE:Europe/Paris
CALSCALE:GREGORIAN
X-WR-CALDESC:Le calendrier des lettres et sciences humaines et sociales
METHOD:PUBLISH
BEGIN:VEVENT
DTSTART;VALUE=DATE:20131121
DTEND;VALUE=DATE:20131122
UID:262311-20131121@calenda.revues.org
SUMMARY:Les travailleurs de l'innovation
URL:https://calenda-formation.labocleo.org/262311
DESCRIPTION:L’innovation est un élément clef de la compétitivité des entreprises et des territoires. Selon Schumpeter\, elle se caractérise par une dimension d’incertitude radicale sur l’avenir et dépend de la capacité des entrepreneurs à créer de nouvelles combi… Más informaciones https://calenda-formation.labocleo.org/262311
LOCATION:Bourg-la-Reine
END:VEVENT
BEGIN:VEVENT
DTSTART;VALUE=DATE:20131122
DTEND;VALUE=DATE:20131123
UID:262311-20131122@calenda.revues.org
SUMMARY:Les travailleurs de l'innovation
URL:https://calenda-formation.labocleo.org/262311
DESCRIPTION:L’innovation est un élément clef de la compétitivité des entreprises et des territoires. Selon Schumpeter\, elle se caractérise par une dimension d’incertitude radicale sur l’avenir et dépend de la capacité des entrepreneurs à créer de nouvelles combi… Más informaciones https://calenda-formation.labocleo.org/262311
LOCATION:Bourg-la-Reine
END:VEVENT
END:VCALENDAR
