BEGIN:VCALENDAR
VERSION:2.0
PRODID:-//https://calenda-formation.labocleo.org
X-WR-CALNAME:Calenda
X-WR-TIMEZONE:Europe/Paris
CALSCALE:GREGORIAN
X-WR-CALDESC:The calendar for arts, humanities and social sciences
METHOD:PUBLISH
BEGIN:VEVENT
DTSTART;VALUE=DATE:20131029
DTEND;VALUE=DATE:20131030
UID:262434-20131029@calenda.revues.org
SUMMARY:PhD scholarship: "The sustainable city: from the industrial city to the dis-industrial city"
URL:https://calenda-formation.labocleo.org/262434
DESCRIPTION:Portant sur des terrains circonscrits et jugés représentatifs (la ville de Givors – 69 et le quartier de Terrenoire\, partie intégrante de la commune de Saint-Etienne – 42)\, le doctorat s’articulera autour de trois objectifs : un recueil de données à … @plus_info https://calenda-formation.labocleo.org/262434
LOCATION:Saint-Étienne
END:VEVENT
END:VCALENDAR
