BEGIN:VCALENDAR
VERSION:2.0
PRODID:-//https://calenda-formation.labocleo.org
X-WR-CALNAME:Calenda
X-WR-TIMEZONE:Europe/Paris
CALSCALE:GREGORIAN
X-WR-CALDESC:Le calendrier des lettres et sciences humaines et sociales
METHOD:PUBLISH
BEGIN:VEVENT
DTSTART;VALUE=DATE:20131223
DTEND;VALUE=DATE:20131224
UID:262621-20131223@calenda.revues.org
SUMMARY:Espaces en dépeuplement
URL:https://calenda-formation.labocleo.org/262621
DESCRIPTION:La thématique des espaces en déclin démographique n’est pas neuve mais son analyse s’est souvent circonscrite à celle des déplacements de population des campagnes vers les villes\, aux courants d’émigration et à leurs conséquences sur la dynamique des… @plus_info https://calenda-formation.labocleo.org/262621
LOCATION:Villeneuve-d'Ascq
END:VEVENT
END:VCALENDAR
