BEGIN:VCALENDAR
VERSION:2.0
PRODID:-//https://calenda-formation.labocleo.org
X-WR-CALNAME:Calenda
X-WR-TIMEZONE:Europe/Paris
CALSCALE:GREGORIAN
X-WR-CALDESC:The calendar for arts, humanities and social sciences
METHOD:PUBLISH
BEGIN:VEVENT
DTSTART;VALUE=DATE:20131015
DTEND;VALUE=DATE:20131016
UID:262724-20131015@calenda.revues.org
SUMMARY:The sea and the preservation of oceans in the light of the international regulation of shared maritime spaces
URL:https://calenda-formation.labocleo.org/262724
DESCRIPTION:De nombreux enjeux (exploitation des ressources minérales et génétiques des fonds marins) incitent à une régulation croissante de l'espace maritime international. Dans quelle mesure est-ce compatible avec le principe de liberté des mers ? … @plus_info https://calenda-formation.labocleo.org/262724
LOCATION:Paris
END:VEVENT
END:VCALENDAR
