BEGIN:VCALENDAR
VERSION:2.0
PRODID:-//https://calenda-formation.labocleo.org
X-WR-CALNAME:Calenda
X-WR-TIMEZONE:Europe/Paris
CALSCALE:GREGORIAN
X-WR-CALDESC:Le calendrier des lettres et sciences humaines et sociales
METHOD:PUBLISH
BEGIN:VEVENT
DTSTART;VALUE=DATE:20131021
DTEND;VALUE=DATE:20131022
UID:262984-20131021@calenda.revues.org
SUMMARY:Le genre du mal-être au travail (2013-2014)
URL:https://calenda-formation.labocleo.org/262984
DESCRIPTION:Le mal-être au travail sera analysé dans les deux prochaines (et dernières) séances du séminaire comme lié à la place symbolique et relationnelle qui est attribuée aux femmes dans le monde de la chirurgie (E.Zolesio) et du conseil (I. Boni). La derni… @plus_info https://calenda-formation.labocleo.org/262984
LOCATION:Paris
END:VEVENT
BEGIN:VEVENT
DTSTART;VALUE=DATE:20131118
DTEND;VALUE=DATE:20131119
UID:262984-20131118@calenda.revues.org
SUMMARY:Le genre du mal-être au travail (2013-2014)
URL:https://calenda-formation.labocleo.org/262984
DESCRIPTION:Le mal-être au travail sera analysé dans les deux prochaines (et dernières) séances du séminaire comme lié à la place symbolique et relationnelle qui est attribuée aux femmes dans le monde de la chirurgie (E.Zolesio) et du conseil (I. Boni). La derni… @plus_info https://calenda-formation.labocleo.org/262984
LOCATION:Paris
END:VEVENT
END:VCALENDAR
