BEGIN:VCALENDAR
VERSION:2.0
PRODID:-//https://calenda-formation.labocleo.org
X-WR-CALNAME:Calenda
X-WR-TIMEZONE:Europe/Paris
CALSCALE:GREGORIAN
X-WR-CALDESC:The calendar for arts, humanities and social sciences
METHOD:PUBLISH
BEGIN:VEVENT
DTSTART;VALUE=DATE:20140116
DTEND;VALUE=DATE:20140117
UID:263194-20140116@calenda.revues.org
SUMMARY:Multidisciplinary approaches to cultural worlds
URL:https://calenda-formation.labocleo.org/263194
DESCRIPTION:Depuis quelques décennies\, les études sur la culture - au sens le plus protéiforme de ce terme - ne cessent de s'étendre au sein de la sphère académique. Cet essor se manifeste tant par la variété des champs disciplinaires qui investissent les études… @plus_info https://calenda-formation.labocleo.org/263194
LOCATION:Dijon
END:VEVENT
BEGIN:VEVENT
DTSTART;VALUE=DATE:20140217
DTEND;VALUE=DATE:20140218
UID:263194-20140217@calenda.revues.org
SUMMARY:Multidisciplinary approaches to cultural worlds
URL:https://calenda-formation.labocleo.org/263194
DESCRIPTION:Depuis quelques décennies\, les études sur la culture - au sens le plus protéiforme de ce terme - ne cessent de s'étendre au sein de la sphère académique. Cet essor se manifeste tant par la variété des champs disciplinaires qui investissent les études… @plus_info https://calenda-formation.labocleo.org/263194
LOCATION:Dijon
END:VEVENT
BEGIN:VEVENT
DTSTART;VALUE=DATE:20140313
DTEND;VALUE=DATE:20140314
UID:263194-20140313@calenda.revues.org
SUMMARY:Multidisciplinary approaches to cultural worlds
URL:https://calenda-formation.labocleo.org/263194
DESCRIPTION:Depuis quelques décennies\, les études sur la culture - au sens le plus protéiforme de ce terme - ne cessent de s'étendre au sein de la sphère académique. Cet essor se manifeste tant par la variété des champs disciplinaires qui investissent les études… @plus_info https://calenda-formation.labocleo.org/263194
LOCATION:Dijon
END:VEVENT
BEGIN:VEVENT
DTSTART;VALUE=DATE:20140417
DTEND;VALUE=DATE:20140418
UID:263194-20140417@calenda.revues.org
SUMMARY:Multidisciplinary approaches to cultural worlds
URL:https://calenda-formation.labocleo.org/263194
DESCRIPTION:Depuis quelques décennies\, les études sur la culture - au sens le plus protéiforme de ce terme - ne cessent de s'étendre au sein de la sphère académique. Cet essor se manifeste tant par la variété des champs disciplinaires qui investissent les études… @plus_info https://calenda-formation.labocleo.org/263194
LOCATION:Dijon
END:VEVENT
BEGIN:VEVENT
DTSTART;VALUE=DATE:20140515
DTEND;VALUE=DATE:20140516
UID:263194-20140515@calenda.revues.org
SUMMARY:Multidisciplinary approaches to cultural worlds
URL:https://calenda-formation.labocleo.org/263194
DESCRIPTION:Depuis quelques décennies\, les études sur la culture - au sens le plus protéiforme de ce terme - ne cessent de s'étendre au sein de la sphère académique. Cet essor se manifeste tant par la variété des champs disciplinaires qui investissent les études… @plus_info https://calenda-formation.labocleo.org/263194
LOCATION:Dijon
END:VEVENT
END:VCALENDAR
