BEGIN:VCALENDAR
VERSION:2.0
PRODID:-//https://calenda-formation.labocleo.org
X-WR-CALNAME:Calenda
X-WR-TIMEZONE:Europe/Paris
CALSCALE:GREGORIAN
X-WR-CALDESC:Le calendrier des lettres et sciences humaines et sociales
METHOD:PUBLISH
BEGIN:VEVENT
DTSTART;VALUE=DATE:20131014
DTEND;VALUE=DATE:20131015
UID:263403-20131014@calenda.revues.org
SUMMARY:Huitièmes rencontres scientifiques de l'ARDIST
URL:https://calenda-formation.labocleo.org/263403
DESCRIPTION:L’Association pour la recherche en didactique des sciences et des technologies (ARDiST) organise\, conformément aux missions qu’elle s’est données\, des rencontres scientifiques tous les deux ans. Les rencontres scientifiques de l’ARDiST sont un moment… @plus_info https://calenda-formation.labocleo.org/263403
LOCATION:Marseille
END:VEVENT
END:VCALENDAR
