BEGIN:VCALENDAR
VERSION:2.0
PRODID:-//https://calenda-formation.labocleo.org
X-WR-CALNAME:Calenda
X-WR-TIMEZONE:Europe/Paris
CALSCALE:GREGORIAN
X-WR-CALDESC:Le calendrier des lettres et sciences humaines et sociales
METHOD:PUBLISH
BEGIN:VEVENT
DTSTART;VALUE=DATE:20131024
DTEND;VALUE=DATE:20131025
UID:263460-20131024@calenda.revues.org
SUMMARY:Enseigner le droit au XXIe siècle
URL:https://calenda-formation.labocleo.org/263460
DESCRIPTION:Contestation du monopole des facultés de droit sur la formation des juristes ; accessibilité immédiate et indéfinie de tout savoir académique ; arrivée de générations montantes ne connaissant plus de l’écrit que l’écran ; foisonnement\, incertitudes e… @plus_info https://calenda-formation.labocleo.org/263460
LOCATION:Guyancourt
END:VEVENT
BEGIN:VEVENT
DTSTART;VALUE=DATE:20131025
DTEND;VALUE=DATE:20131026
UID:263460-20131025@calenda.revues.org
SUMMARY:Enseigner le droit au XXIe siècle
URL:https://calenda-formation.labocleo.org/263460
DESCRIPTION:Contestation du monopole des facultés de droit sur la formation des juristes ; accessibilité immédiate et indéfinie de tout savoir académique ; arrivée de générations montantes ne connaissant plus de l’écrit que l’écran ; foisonnement\, incertitudes e… @plus_info https://calenda-formation.labocleo.org/263460
LOCATION:Guyancourt
END:VEVENT
END:VCALENDAR
