BEGIN:VCALENDAR
VERSION:2.0
PRODID:-//https://calenda-formation.labocleo.org
X-WR-CALNAME:Calenda
X-WR-TIMEZONE:Europe/Paris
CALSCALE:GREGORIAN
X-WR-CALDESC:The calendar for arts, humanities and social sciences
METHOD:PUBLISH
BEGIN:VEVENT
DTSTART;VALUE=DATE:20131121
DTEND;VALUE=DATE:20131122
UID:263500-20131121@calenda.revues.org
SUMMARY:Freedoms and national exceptionalisms
URL:https://calenda-formation.labocleo.org/263500
DESCRIPTION:Ce colloque mènera d'abord une réflexion sur la définition de la notion de l'exceptionnalisme en matière de droits et libertés fondamentaux. Les différentes interventions auront ensuite comme objectif d'identifier quelles sont les causes historiques\,… @plus_info https://calenda-formation.labocleo.org/263500
LOCATION:Aix-en-Provence
END:VEVENT
BEGIN:VEVENT
DTSTART;VALUE=DATE:20131122
DTEND;VALUE=DATE:20131123
UID:263500-20131122@calenda.revues.org
SUMMARY:Freedoms and national exceptionalisms
URL:https://calenda-formation.labocleo.org/263500
DESCRIPTION:Ce colloque mènera d'abord une réflexion sur la définition de la notion de l'exceptionnalisme en matière de droits et libertés fondamentaux. Les différentes interventions auront ensuite comme objectif d'identifier quelles sont les causes historiques\,… @plus_info https://calenda-formation.labocleo.org/263500
LOCATION:Aix-en-Provence
END:VEVENT
END:VCALENDAR
