BEGIN:VCALENDAR
VERSION:2.0
PRODID:-//https://calenda-formation.labocleo.org
X-WR-CALNAME:Calenda
X-WR-TIMEZONE:Europe/Paris
CALSCALE:GREGORIAN
X-WR-CALDESC:Le calendrier des lettres et sciences humaines et sociales
METHOD:PUBLISH
BEGIN:VEVENT
DTSTART;VALUE=DATE:20131112
DTEND;VALUE=DATE:20131113
UID:263607-20131112@calenda.revues.org
SUMMARY:The Connected Past
URL:https://calenda-formation.labocleo.org/263607
DESCRIPTION:Le mot « réseau » est de plus en plus à la mode depuis maintenant plusieurs décennies\, dans la plupart des disciplines\, y compris de sciences humaines et sociales. En histoire et en archéologie notamment\, les théories et méthodes centrées sur les rés… Más informaciones https://calenda-formation.labocleo.org/263607
LOCATION:París
END:VEVENT
END:VCALENDAR
