BEGIN:VCALENDAR
VERSION:2.0
PRODID:-//https://calenda-formation.labocleo.org
X-WR-CALNAME:Calenda
X-WR-TIMEZONE:Europe/Paris
CALSCALE:GREGORIAN
X-WR-CALDESC:Le calendrier des lettres et sciences humaines et sociales
METHOD:PUBLISH
BEGIN:VEVENT
DTSTART;VALUE=DATE:20131106
DTEND;VALUE=DATE:20131107
UID:263647-20131106@calenda.revues.org
SUMMARY:Émergence et risques sanitaires
URL:https://calenda-formation.labocleo.org/263647
DESCRIPTION:Ce séminaire constitue l’aboutissement du projet pluridisciplinaire « Émergence et risques sanitaires » (Cirad-ATP\, 2010-2013). Il a réuni des chercheurs de plusieurs disciplines\, des sciences biologiques et sociales\, travaillant de l’échelle du gène… Más informaciones https://calenda-formation.labocleo.org/263647
LOCATION:Montpellier
END:VEVENT
BEGIN:VEVENT
DTSTART;VALUE=DATE:20131107
DTEND;VALUE=DATE:20131108
UID:263647-20131107@calenda.revues.org
SUMMARY:Émergence et risques sanitaires
URL:https://calenda-formation.labocleo.org/263647
DESCRIPTION:Ce séminaire constitue l’aboutissement du projet pluridisciplinaire « Émergence et risques sanitaires » (Cirad-ATP\, 2010-2013). Il a réuni des chercheurs de plusieurs disciplines\, des sciences biologiques et sociales\, travaillant de l’échelle du gène… Más informaciones https://calenda-formation.labocleo.org/263647
LOCATION:Montpellier
END:VEVENT
END:VCALENDAR
