BEGIN:VCALENDAR
VERSION:2.0
PRODID:-//https://calenda-formation.labocleo.org
X-WR-CALNAME:Calenda
X-WR-TIMEZONE:Europe/Paris
CALSCALE:GREGORIAN
X-WR-CALDESC:Le calendrier des lettres et sciences humaines et sociales
METHOD:PUBLISH
BEGIN:VEVENT
DTSTART;VALUE=DATE:20131104
DTEND;VALUE=DATE:20131105
UID:264279-20131104@calenda.revues.org
SUMMARY:La jalousie. Anatomie d'une passion mal aimée
URL:https://calenda-formation.labocleo.org/264279
DESCRIPTION:Nous avons pour ambition\, à travers ce séminaire\, d’approcher une émotion dont on postule qu'elle est indissociable de l’amour. On abordera la jalousie par le biais de ses représentations pour en explorer les différentes scènes. Forts de l'intuition … Más informaciones https://calenda-formation.labocleo.org/264279
LOCATION:París
END:VEVENT
BEGIN:VEVENT
DTSTART;VALUE=DATE:20131216
DTEND;VALUE=DATE:20131217
UID:264279-20131216@calenda.revues.org
SUMMARY:La jalousie. Anatomie d'une passion mal aimée
URL:https://calenda-formation.labocleo.org/264279
DESCRIPTION:Nous avons pour ambition\, à travers ce séminaire\, d’approcher une émotion dont on postule qu'elle est indissociable de l’amour. On abordera la jalousie par le biais de ses représentations pour en explorer les différentes scènes. Forts de l'intuition … Más informaciones https://calenda-formation.labocleo.org/264279
LOCATION:París
END:VEVENT
BEGIN:VEVENT
DTSTART;VALUE=DATE:20140113
DTEND;VALUE=DATE:20140114
UID:264279-20140113@calenda.revues.org
SUMMARY:La jalousie. Anatomie d'une passion mal aimée
URL:https://calenda-formation.labocleo.org/264279
DESCRIPTION:Nous avons pour ambition\, à travers ce séminaire\, d’approcher une émotion dont on postule qu'elle est indissociable de l’amour. On abordera la jalousie par le biais de ses représentations pour en explorer les différentes scènes. Forts de l'intuition … Más informaciones https://calenda-formation.labocleo.org/264279
LOCATION:París
END:VEVENT
BEGIN:VEVENT
DTSTART;VALUE=DATE:20140210
DTEND;VALUE=DATE:20140211
UID:264279-20140210@calenda.revues.org
SUMMARY:La jalousie. Anatomie d'une passion mal aimée
URL:https://calenda-formation.labocleo.org/264279
DESCRIPTION:Nous avons pour ambition\, à travers ce séminaire\, d’approcher une émotion dont on postule qu'elle est indissociable de l’amour. On abordera la jalousie par le biais de ses représentations pour en explorer les différentes scènes. Forts de l'intuition … Más informaciones https://calenda-formation.labocleo.org/264279
LOCATION:París
END:VEVENT
BEGIN:VEVENT
DTSTART;VALUE=DATE:20140317
DTEND;VALUE=DATE:20140318
UID:264279-20140317@calenda.revues.org
SUMMARY:La jalousie. Anatomie d'une passion mal aimée
URL:https://calenda-formation.labocleo.org/264279
DESCRIPTION:Nous avons pour ambition\, à travers ce séminaire\, d’approcher une émotion dont on postule qu'elle est indissociable de l’amour. On abordera la jalousie par le biais de ses représentations pour en explorer les différentes scènes. Forts de l'intuition … Más informaciones https://calenda-formation.labocleo.org/264279
LOCATION:París
END:VEVENT
BEGIN:VEVENT
DTSTART;VALUE=DATE:20140428
DTEND;VALUE=DATE:20140429
UID:264279-20140428@calenda.revues.org
SUMMARY:La jalousie. Anatomie d'une passion mal aimée
URL:https://calenda-formation.labocleo.org/264279
DESCRIPTION:Nous avons pour ambition\, à travers ce séminaire\, d’approcher une émotion dont on postule qu'elle est indissociable de l’amour. On abordera la jalousie par le biais de ses représentations pour en explorer les différentes scènes. Forts de l'intuition … Más informaciones https://calenda-formation.labocleo.org/264279
LOCATION:París
END:VEVENT
BEGIN:VEVENT
DTSTART;VALUE=DATE:20140512
DTEND;VALUE=DATE:20140513
UID:264279-20140512@calenda.revues.org
SUMMARY:La jalousie. Anatomie d'une passion mal aimée
URL:https://calenda-formation.labocleo.org/264279
DESCRIPTION:Nous avons pour ambition\, à travers ce séminaire\, d’approcher une émotion dont on postule qu'elle est indissociable de l’amour. On abordera la jalousie par le biais de ses représentations pour en explorer les différentes scènes. Forts de l'intuition … Más informaciones https://calenda-formation.labocleo.org/264279
LOCATION:París
END:VEVENT
BEGIN:VEVENT
DTSTART;VALUE=DATE:20140602
DTEND;VALUE=DATE:20140603
UID:264279-20140602@calenda.revues.org
SUMMARY:La jalousie. Anatomie d'une passion mal aimée
URL:https://calenda-formation.labocleo.org/264279
DESCRIPTION:Nous avons pour ambition\, à travers ce séminaire\, d’approcher une émotion dont on postule qu'elle est indissociable de l’amour. On abordera la jalousie par le biais de ses représentations pour en explorer les différentes scènes. Forts de l'intuition … Más informaciones https://calenda-formation.labocleo.org/264279
LOCATION:París
END:VEVENT
END:VCALENDAR
