BEGIN:VCALENDAR
VERSION:2.0
PRODID:-//https://calenda-formation.labocleo.org
X-WR-CALNAME:Calenda
X-WR-TIMEZONE:Europe/Paris
CALSCALE:GREGORIAN
X-WR-CALDESC:The calendar for arts, humanities and social sciences
METHOD:PUBLISH
BEGIN:VEVENT
DTSTART;VALUE=DATE:20131114
DTEND;VALUE=DATE:20131115
UID:264442-20131114@calenda.revues.org
SUMMARY:Of orders and law
URL:https://calenda-formation.labocleo.org/264442
DESCRIPTION:Les jeunes chercheurs de l'UMR 7074 organisent une journée d'étude sur le thème « Des ordres et du droit »\, qui réunit des analyses de théorie et d'histoire du droit\, de sociologie ou de sciences sociales sur les rapports entre l'État et d'autres ord… @plus_info https://calenda-formation.labocleo.org/264442
LOCATION:Nanterre
END:VEVENT
END:VCALENDAR
