BEGIN:VCALENDAR
VERSION:2.0
PRODID:-//https://calenda-formation.labocleo.org
X-WR-CALNAME:Calenda
X-WR-TIMEZONE:Europe/Paris
CALSCALE:GREGORIAN
X-WR-CALDESC:Le calendrier des lettres et sciences humaines et sociales
METHOD:PUBLISH
BEGIN:VEVENT
DTSTART;VALUE=DATE:20131122
DTEND;VALUE=DATE:20131123
UID:264583-20131122@calenda.revues.org
SUMMARY:Les cultures musicales en France (1760-1830)
URL:https://calenda-formation.labocleo.org/264583
DESCRIPTION:L’intérêt de la recherche historique pour la géographie musicale est un phénomène récent et encore\, dans une large mesure\, insuffisant. On observe\, depuis une dizaine d’années\, la multiplication des travaux consacrés aux espaces musicaux et aux lieux… @plus_info https://calenda-formation.labocleo.org/264583
LOCATION:Arras
END:VEVENT
END:VCALENDAR
