BEGIN:VCALENDAR
VERSION:2.0
PRODID:-//https://calenda-formation.labocleo.org
X-WR-CALNAME:Calenda
X-WR-TIMEZONE:Europe/Paris
CALSCALE:GREGORIAN
X-WR-CALDESC:Le calendrier des lettres et sciences humaines et sociales
METHOD:PUBLISH
BEGIN:VEVENT
DTSTART;VALUE=DATE:20131128
DTEND;VALUE=DATE:20131129
UID:264731-20131128@calenda.revues.org
SUMMARY:Les cours d'appel\, du passé au présent 
URL:https://calenda-formation.labocleo.org/264731
DESCRIPTION:Depuis la création de l’appel par Saint-Louis au Moyen Âge\,  les cours chargées de statuer souverainement sur les jugements du premier degré ont toujours joué un rôle de premier plan au sein de l’ordre judiciaire. Après l’intermède révolutionnaire\, c… Más informaciones https://calenda-formation.labocleo.org/264731
LOCATION:Agen
END:VEVENT
BEGIN:VEVENT
DTSTART;VALUE=DATE:20131129
DTEND;VALUE=DATE:20131130
UID:264731-20131129@calenda.revues.org
SUMMARY:Les cours d'appel\, du passé au présent 
URL:https://calenda-formation.labocleo.org/264731
DESCRIPTION:Depuis la création de l’appel par Saint-Louis au Moyen Âge\,  les cours chargées de statuer souverainement sur les jugements du premier degré ont toujours joué un rôle de premier plan au sein de l’ordre judiciaire. Après l’intermède révolutionnaire\, c… Más informaciones https://calenda-formation.labocleo.org/264731
LOCATION:Agen
END:VEVENT
END:VCALENDAR
