BEGIN:VCALENDAR
VERSION:2.0
PRODID:-//https://calenda-formation.labocleo.org
X-WR-CALNAME:Calenda
X-WR-TIMEZONE:Europe/Paris
CALSCALE:GREGORIAN
X-WR-CALDESC:Le calendrier des lettres et sciences humaines et sociales
METHOD:PUBLISH
BEGIN:VEVENT
DTSTART;VALUE=DATE:20131128
DTEND;VALUE=DATE:20131129
UID:264924-20131128@calenda.revues.org
SUMMARY:Formes et enjeux contemporains de la communication et de la culture scientifiques et techniques
URL:https://calenda-formation.labocleo.org/264924
DESCRIPTION:Ce colloque sera l’occasion de produire des analyses sur les mutations et les innovations dans la communication et la culture scientifiques et techniques. Il se donnera pour objet de traiter ensemble des questions qui relèvent spécifiquement du champ… Weitere Informationen https://calenda-formation.labocleo.org/264924
LOCATION:Échirolles
END:VEVENT
BEGIN:VEVENT
DTSTART;VALUE=DATE:20131129
DTEND;VALUE=DATE:20131130
UID:264924-20131129@calenda.revues.org
SUMMARY:Formes et enjeux contemporains de la communication et de la culture scientifiques et techniques
URL:https://calenda-formation.labocleo.org/264924
DESCRIPTION:Ce colloque sera l’occasion de produire des analyses sur les mutations et les innovations dans la communication et la culture scientifiques et techniques. Il se donnera pour objet de traiter ensemble des questions qui relèvent spécifiquement du champ… Weitere Informationen https://calenda-formation.labocleo.org/264924
LOCATION:Échirolles
END:VEVENT
END:VCALENDAR
