BEGIN:VCALENDAR
VERSION:2.0
PRODID:-//https://calenda-formation.labocleo.org
X-WR-CALNAME:Calenda
X-WR-TIMEZONE:Europe/Paris
CALSCALE:GREGORIAN
X-WR-CALDESC:The calendar for arts, humanities and social sciences
METHOD:PUBLISH
BEGIN:VEVENT
DTSTART;VALUE=DATE:20131216
DTEND;VALUE=DATE:20131217
UID:264931-20131216@calenda.revues.org
SUMMARY:Science fiction in the Iberian worlds
URL:https://calenda-formation.labocleo.org/264931
DESCRIPTION:Lors de cette journée\, nous examinerons les processus anamorphotiques (Bozzetto\, Soriano) contenus dans les productions SF de la péninsule ibérique et du continent américain. Comment le statut marginal de la SF dans le champ culturel lui permet-elle … @plus_info https://calenda-formation.labocleo.org/264931
LOCATION:
END:VEVENT
END:VCALENDAR
