BEGIN:VCALENDAR
VERSION:2.0
PRODID:-//https://calenda-formation.labocleo.org
X-WR-CALNAME:Calenda
X-WR-TIMEZONE:Europe/Paris
CALSCALE:GREGORIAN
X-WR-CALDESC:Le calendrier des lettres et sciences humaines et sociales
METHOD:PUBLISH
BEGIN:VEVENT
DTSTART;VALUE=DATE:20131112
DTEND;VALUE=DATE:20131113
UID:265277-20131112@calenda.revues.org
SUMMARY:Linguistique / Sociologie
URL:https://calenda-formation.labocleo.org/265277
DESCRIPTION:Pour le dire sans ambages « rien d'humain ne se fait en dehors du langage ». Les faits\, pour exister\, doivent être dits\, d'une façon ou d'une autre ; le réel est socialisé par la médiation du langage. On s'intéressera d'une part à la façon dont l'ana… Más informaciones https://calenda-formation.labocleo.org/265277
LOCATION:Mont-Saint-Aignan
END:VEVENT
BEGIN:VEVENT
DTSTART;VALUE=DATE:20131125
DTEND;VALUE=DATE:20131126
UID:265277-20131125@calenda.revues.org
SUMMARY:Linguistique / Sociologie
URL:https://calenda-formation.labocleo.org/265277
DESCRIPTION:Pour le dire sans ambages « rien d'humain ne se fait en dehors du langage ». Les faits\, pour exister\, doivent être dits\, d'une façon ou d'une autre ; le réel est socialisé par la médiation du langage. On s'intéressera d'une part à la façon dont l'ana… Más informaciones https://calenda-formation.labocleo.org/265277
LOCATION:Mont-Saint-Aignan
END:VEVENT
BEGIN:VEVENT
DTSTART;VALUE=DATE:20140324
DTEND;VALUE=DATE:20140325
UID:265277-20140324@calenda.revues.org
SUMMARY:Linguistique / Sociologie
URL:https://calenda-formation.labocleo.org/265277
DESCRIPTION:Pour le dire sans ambages « rien d'humain ne se fait en dehors du langage ». Les faits\, pour exister\, doivent être dits\, d'une façon ou d'une autre ; le réel est socialisé par la médiation du langage. On s'intéressera d'une part à la façon dont l'ana… Más informaciones https://calenda-formation.labocleo.org/265277
LOCATION:Mont-Saint-Aignan
END:VEVENT
BEGIN:VEVENT
DTSTART;VALUE=DATE:20140512
DTEND;VALUE=DATE:20140513
UID:265277-20140512@calenda.revues.org
SUMMARY:Linguistique / Sociologie
URL:https://calenda-formation.labocleo.org/265277
DESCRIPTION:Pour le dire sans ambages « rien d'humain ne se fait en dehors du langage ». Les faits\, pour exister\, doivent être dits\, d'une façon ou d'une autre ; le réel est socialisé par la médiation du langage. On s'intéressera d'une part à la façon dont l'ana… Más informaciones https://calenda-formation.labocleo.org/265277
LOCATION:Mont-Saint-Aignan
END:VEVENT
BEGIN:VEVENT
DTSTART;VALUE=DATE:20140521
DTEND;VALUE=DATE:20140522
UID:265277-20140521@calenda.revues.org
SUMMARY:Linguistique / Sociologie
URL:https://calenda-formation.labocleo.org/265277
DESCRIPTION:Pour le dire sans ambages « rien d'humain ne se fait en dehors du langage ». Les faits\, pour exister\, doivent être dits\, d'une façon ou d'une autre ; le réel est socialisé par la médiation du langage. On s'intéressera d'une part à la façon dont l'ana… Más informaciones https://calenda-formation.labocleo.org/265277
LOCATION:Mont-Saint-Aignan
END:VEVENT
BEGIN:VEVENT
DTSTART;VALUE=DATE:20140522
DTEND;VALUE=DATE:20140523
UID:265277-20140522@calenda.revues.org
SUMMARY:Linguistique / Sociologie
URL:https://calenda-formation.labocleo.org/265277
DESCRIPTION:Pour le dire sans ambages « rien d'humain ne se fait en dehors du langage ». Les faits\, pour exister\, doivent être dits\, d'une façon ou d'une autre ; le réel est socialisé par la médiation du langage. On s'intéressera d'une part à la façon dont l'ana… Más informaciones https://calenda-formation.labocleo.org/265277
LOCATION:Mont-Saint-Aignan
END:VEVENT
END:VCALENDAR
