BEGIN:VCALENDAR
VERSION:2.0
PRODID:-//https://calenda-formation.labocleo.org
X-WR-CALNAME:Calenda
X-WR-TIMEZONE:Europe/Paris
CALSCALE:GREGORIAN
X-WR-CALDESC:The calendar for arts, humanities and social sciences
METHOD:PUBLISH
BEGIN:VEVENT
DTSTART;VALUE=DATE:20140301
DTEND;VALUE=DATE:20140302
UID:265617-20140301@calenda.revues.org
SUMMARY:VIth Mediterranean Congress of Aesthetics
URL:https://calenda-formation.labocleo.org/265617
DESCRIPTION:In a text entitled The Collapse of the Fact/Value Dichotomy and Other Essays (2004)\, Hilary Putnam argues convincingly against a classic opposition which does not serve philosophical reflection positively. Putnam’s analysis mostly focuses on the theo… @plus_info https://calenda-formation.labocleo.org/265617
LOCATION:Florence
END:VEVENT
END:VCALENDAR
