BEGIN:VCALENDAR
VERSION:2.0
PRODID:-//https://calenda-formation.labocleo.org
X-WR-CALNAME:Calenda
X-WR-TIMEZONE:Europe/Paris
CALSCALE:GREGORIAN
X-WR-CALDESC:Le calendrier des lettres et sciences humaines et sociales
METHOD:PUBLISH
BEGIN:VEVENT
DTSTART;VALUE=DATE:20131130
DTEND;VALUE=DATE:20131201
UID:265868-20131130@calenda.revues.org
SUMMARY:L’écrit en LANSAD
URL:https://calenda-formation.labocleo.org/265868
DESCRIPTION:La revue EDL lance un appel à contribution autour du thème de l'écrit en didactique des langues. L’écrit\, appréhendé comme acte d'écriture ou production d'énoncés écrits\, est défini\, sur le plan cognitif\, comme une activité de gestion de contraintes … @plus_info https://calenda-formation.labocleo.org/265868
LOCATION:
END:VEVENT
END:VCALENDAR
