BEGIN:VCALENDAR
VERSION:2.0
PRODID:-//https://calenda-formation.labocleo.org
X-WR-CALNAME:Calenda
X-WR-TIMEZONE:Europe/Paris
CALSCALE:GREGORIAN
X-WR-CALDESC:The calendar for arts, humanities and social sciences
METHOD:PUBLISH
BEGIN:VEVENT
DTSTART;VALUE=DATE:20131108
DTEND;VALUE=DATE:20131109
UID:266007-20131108@calenda.revues.org
SUMMARY:Communication studies and history: a documentological approach to history
URL:https://calenda-formation.labocleo.org/266007
DESCRIPTION:Aujourd’hui l’écrit (volumen\, codex\, écrit d’écran) n’est plus la seule source documentaire pour l’histoire. Les historiens\, les historiens de l’art\, les archéologues considèrent depuis longtemps comme document tout ce qui a été légué par le passé. D… @plus_info https://calenda-formation.labocleo.org/266007
LOCATION:Toulouse
END:VEVENT
END:VCALENDAR
