BEGIN:VCALENDAR
VERSION:2.0
PRODID:-//https://calenda-formation.labocleo.org
X-WR-CALNAME:Calenda
X-WR-TIMEZONE:Europe/Paris
CALSCALE:GREGORIAN
X-WR-CALDESC:The calendar for arts, humanities and social sciences
METHOD:PUBLISH
BEGIN:VEVENT
DTSTART;VALUE=DATE:20131128
DTEND;VALUE=DATE:20131129
UID:266206-20131128@calenda.revues.org
SUMMARY:The integration of the environment in EU policies
URL:https://calenda-formation.labocleo.org/266206
DESCRIPTION: La protection de l’environnement présente dans l’ensemble des politiques publiques ? Tel est l’objectif du septièmeprogramme d’action environnement adopté par la commission européenne en décembre 2012 « Bien vivre dans les limites de notre planète »… @plus_info https://calenda-formation.labocleo.org/266206
LOCATION:Nantes
END:VEVENT
BEGIN:VEVENT
DTSTART;VALUE=DATE:20131129
DTEND;VALUE=DATE:20131130
UID:266206-20131129@calenda.revues.org
SUMMARY:The integration of the environment in EU policies
URL:https://calenda-formation.labocleo.org/266206
DESCRIPTION: La protection de l’environnement présente dans l’ensemble des politiques publiques ? Tel est l’objectif du septièmeprogramme d’action environnement adopté par la commission européenne en décembre 2012 « Bien vivre dans les limites de notre planète »… @plus_info https://calenda-formation.labocleo.org/266206
LOCATION:Nantes
END:VEVENT
END:VCALENDAR
