BEGIN:VCALENDAR
VERSION:2.0
PRODID:-//https://calenda-formation.labocleo.org
X-WR-CALNAME:Calenda
X-WR-TIMEZONE:Europe/Paris
CALSCALE:GREGORIAN
X-WR-CALDESC:The calendar for arts, humanities and social sciences
METHOD:PUBLISH
BEGIN:VEVENT
DTSTART;VALUE=DATE:20131205
DTEND;VALUE=DATE:20131206
UID:266700-20131205@calenda.revues.org
SUMMARY:The second Iron Age in the Tyrrhenian Sea. Economic\, social and cultural aspects
URL:https://calenda-formation.labocleo.org/266700
DESCRIPTION:L’objectif de la journée d’étude internationale FERTIGE13 (Ferro Tirreno Genova 2013) est de dynamiser la mise en réseau des jeunes chercheurs en réunissant une douzaine de doctorants et jeunes docteurs (moins de cinq ans) concernés par l’espace et l… @plus_info https://calenda-formation.labocleo.org/266700
LOCATION:Genoa
END:VEVENT
END:VCALENDAR
