BEGIN:VCALENDAR
VERSION:2.0
PRODID:-//https://calenda-formation.labocleo.org
X-WR-CALNAME:Calenda
X-WR-TIMEZONE:Europe/Paris
CALSCALE:GREGORIAN
X-WR-CALDESC:The calendar for arts, humanities and social sciences
METHOD:PUBLISH
BEGIN:VEVENT
DTSTART;VALUE=DATE:20131129
DTEND;VALUE=DATE:20131130
UID:266834-20131129@calenda.revues.org
SUMMARY:General interest
URL:https://calenda-formation.labocleo.org/266834
DESCRIPTION:Y a t-il encore sens aujourd'hui à parler d'intérêt général dans un contexte où les sociétés complexes semblent éclatées en une multiplicité de réseaux ? L'intérêt général est-il mort\, tué par le pluralisme de la post-modernité\, ou à réinventer ? L’i… @plus_info https://calenda-formation.labocleo.org/266834
LOCATION:Grenoble
END:VEVENT
END:VCALENDAR
