BEGIN:VCALENDAR
VERSION:2.0
PRODID:-//https://calenda-formation.labocleo.org
X-WR-CALNAME:Calenda
X-WR-TIMEZONE:Europe/Paris
CALSCALE:GREGORIAN
X-WR-CALDESC:The calendar for arts, humanities and social sciences
METHOD:PUBLISH
BEGIN:VEVENT
DTSTART;VALUE=DATE:20140201
DTEND;VALUE=DATE:20140202
UID:267076-20140201@calenda.revues.org
SUMMARY:Young adults and circulation of cultural products: Mediterranean perspectives
URL:https://calenda-formation.labocleo.org/267076
DESCRIPTION:The aim of this conference is to examine the relationship between young adults and cultural products in a digital\, globalised age. The focus will be on the logics and the modes of production\, distribution\, circulation and consumption of cultural prod… @plus_info https://calenda-formation.labocleo.org/267076
LOCATION:Bobigny
END:VEVENT
END:VCALENDAR
