BEGIN:VCALENDAR
VERSION:2.0
PRODID:-//https://calenda-formation.labocleo.org
X-WR-CALNAME:Calenda
X-WR-TIMEZONE:Europe/Paris
CALSCALE:GREGORIAN
X-WR-CALDESC:Le calendrier des lettres et sciences humaines et sociales
METHOD:PUBLISH
BEGIN:VEVENT
DTSTART;VALUE=DATE:20140115
DTEND;VALUE=DATE:20140116
UID:267226-20140115@calenda.revues.org
SUMMARY:L’autre voix de la littérature écrite
URL:https://calenda-formation.labocleo.org/267226
DESCRIPTION:Notre numéro se propose de retrouver l'oralité du monde chez des écrivains qui témoignent d’une façon ou d’une autre que cette expérience culturelle et personnelle\, fortuite ou recherchée\, subliminale ou presque objectivée\, est une matrice de leur éc… Weitere Informationen https://calenda-formation.labocleo.org/267226
LOCATION:
END:VEVENT
END:VCALENDAR
