BEGIN:VCALENDAR
VERSION:2.0
PRODID:-//https://calenda-formation.labocleo.org
X-WR-CALNAME:Calenda
X-WR-TIMEZONE:Europe/Paris
CALSCALE:GREGORIAN
X-WR-CALDESC:Le calendrier des lettres et sciences humaines et sociales
METHOD:PUBLISH
BEGIN:VEVENT
DTSTART;VALUE=DATE:20131120
DTEND;VALUE=DATE:20131121
UID:267543-20131120@calenda.revues.org
SUMMARY:Les mises en scène de l'autorité dans l'Antiquité
URL:https://calenda-formation.labocleo.org/267543
DESCRIPTION:La compréhension des modes de mise en scène de l’autorité\, et la mise en évidence des spécificités propres à chacune des autorités traitées\, implique aussi bien des études de cas que des analyses plus globales\, aussi bien le décryptage de mécanismes … @plus_info https://calenda-formation.labocleo.org/267543
LOCATION:Lyon
END:VEVENT
BEGIN:VEVENT
DTSTART;VALUE=DATE:20131122
DTEND;VALUE=DATE:20131123
UID:267543-20131122@calenda.revues.org
SUMMARY:Les mises en scène de l'autorité dans l'Antiquité
URL:https://calenda-formation.labocleo.org/267543
DESCRIPTION:La compréhension des modes de mise en scène de l’autorité\, et la mise en évidence des spécificités propres à chacune des autorités traitées\, implique aussi bien des études de cas que des analyses plus globales\, aussi bien le décryptage de mécanismes … @plus_info https://calenda-formation.labocleo.org/267543
LOCATION:Lyon
END:VEVENT
BEGIN:VEVENT
DTSTART;VALUE=DATE:20131121
DTEND;VALUE=DATE:20131122
UID:267543-20131121@calenda.revues.org
SUMMARY:Les mises en scène de l'autorité dans l'Antiquité
URL:https://calenda-formation.labocleo.org/267543
DESCRIPTION:La compréhension des modes de mise en scène de l’autorité\, et la mise en évidence des spécificités propres à chacune des autorités traitées\, implique aussi bien des études de cas que des analyses plus globales\, aussi bien le décryptage de mécanismes … @plus_info https://calenda-formation.labocleo.org/267543
LOCATION:Lyon
END:VEVENT
END:VCALENDAR
