BEGIN:VCALENDAR
VERSION:2.0
PRODID:-//https://calenda-formation.labocleo.org
X-WR-CALNAME:Calenda
X-WR-TIMEZONE:Europe/Paris
CALSCALE:GREGORIAN
X-WR-CALDESC:Le calendrier des lettres et sciences humaines et sociales
METHOD:PUBLISH
BEGIN:VEVENT
DTSTART;VALUE=DATE:20131205
DTEND;VALUE=DATE:20131206
UID:267923-20131205@calenda.revues.org
SUMMARY:La marginalisation des enquêté-e-s et la diffusion des enquêtes
URL:https://calenda-formation.labocleo.org/267923
DESCRIPTION:Les journées des doctorant-e-s de l’URMIS porteront sur « La marginalisation des enquêté-e-s et la diffusion des enquêtes ». Au cours de la première journée\, à l’université Paris Diderot\, les doctorant-e-s de l’URMIS présenteront leurs recherches et … Weitere Informationen https://calenda-formation.labocleo.org/267923
LOCATION:Paris
END:VEVENT
BEGIN:VEVENT
DTSTART;VALUE=DATE:20131206
DTEND;VALUE=DATE:20131207
UID:267923-20131206@calenda.revues.org
SUMMARY:La marginalisation des enquêté-e-s et la diffusion des enquêtes
URL:https://calenda-formation.labocleo.org/267923
DESCRIPTION:Les journées des doctorant-e-s de l’URMIS porteront sur « La marginalisation des enquêté-e-s et la diffusion des enquêtes ». Au cours de la première journée\, à l’université Paris Diderot\, les doctorant-e-s de l’URMIS présenteront leurs recherches et … Weitere Informationen https://calenda-formation.labocleo.org/267923
LOCATION:Paris
END:VEVENT
END:VCALENDAR
