BEGIN:VCALENDAR
VERSION:2.0
PRODID:-//https://calenda-formation.labocleo.org
X-WR-CALNAME:Calenda
X-WR-TIMEZONE:Europe/Paris
CALSCALE:GREGORIAN
X-WR-CALDESC:O calendário de letras e de ciências sociais e humanas
METHOD:PUBLISH
BEGIN:VEVENT
DTSTART;VALUE=DATE:20131218
DTEND;VALUE=DATE:20131219
UID:268168-20131218@calenda.revues.org
SUMMARY:Technologie et médias émergents
URL:https://calenda-formation.labocleo.org/268168
DESCRIPTION:Le colloque de l'Association canadienne de communication se tiendra du 28 au 30 mai 2014 à l’Université Brock à Saint Catharines\, Ontario\, Canada. Nous vous invitons à proposer une communication individuelle\, une session ou une table ronde au sein de… @plus_info https://calenda-formation.labocleo.org/268168
LOCATION:St. Catharines
END:VEVENT
END:VCALENDAR
