BEGIN:VCALENDAR
VERSION:2.0
PRODID:-//https://calenda-formation.labocleo.org
X-WR-CALNAME:Calenda
X-WR-TIMEZONE:Europe/Paris
CALSCALE:GREGORIAN
X-WR-CALDESC:Le calendrier des lettres et sciences humaines et sociales
METHOD:PUBLISH
BEGIN:VEVENT
DTSTART;VALUE=DATE:20131210
DTEND;VALUE=DATE:20131211
UID:268456-20131210@calenda.revues.org
SUMMARY:L'histoire des bibliothèques : architecture et espace
URL:https://calenda-formation.labocleo.org/268456
DESCRIPTION:Quatrième volet du cycle « L’histoire des bibliothèques » inauguré en 2010\, cet atelier envisage cette fois la bibliothèque dans sa dimension matérielle et monumentale\, et s’interroge sur le sens donné\, à travers sa forme\, à cet édifice public. … Weitere Informationen https://calenda-formation.labocleo.org/268456
LOCATION:Paris
END:VEVENT
END:VCALENDAR
