BEGIN:VCALENDAR
VERSION:2.0
PRODID:-//https://calenda-formation.labocleo.org
X-WR-CALNAME:Calenda
X-WR-TIMEZONE:Europe/Paris
CALSCALE:GREGORIAN
X-WR-CALDESC:Le calendrier des lettres et sciences humaines et sociales
METHOD:PUBLISH
BEGIN:VEVENT
DTSTART;VALUE=DATE:20140113
DTEND;VALUE=DATE:20140114
UID:268715-20140113@calenda.revues.org
SUMMARY:Circulations transnationales et échelles d'analyse : une approche pluridisciplinaire
URL:https://calenda-formation.labocleo.org/268715
DESCRIPTION:La journée d'étude est organisée avec le soutien du Labex TransferS dont le principal objectif est de réflechir sur la notion de « transfert culturel » en croisant les disciplines académiques. Cette journée se propose de nourrir une réflexion collect… @plus_info https://calenda-formation.labocleo.org/268715
LOCATION:Paris
END:VEVENT
END:VCALENDAR
