BEGIN:VCALENDAR
VERSION:2.0
PRODID:-//https://calenda-formation.labocleo.org
X-WR-CALNAME:Calenda
X-WR-TIMEZONE:Europe/Paris
CALSCALE:GREGORIAN
X-WR-CALDESC:The calendar for arts, humanities and social sciences
METHOD:PUBLISH
BEGIN:VEVENT
DTSTART;VALUE=DATE:20131128
DTEND;VALUE=DATE:20131129
UID:268727-20131128@calenda.revues.org
SUMMARY:Melancholia/ae
URL:https://calenda-formation.labocleo.org/268727
DESCRIPTION:Il tema della malinconia\, nelle sue diverse declinazioni storico-artistiche\, mediche\, letterarie\, filosofiche\, psicologiche costituisce l’oggetto di una vasta letteratura. Del resto\, lo stesso termine “malinconia” è un termine polisemico\, associato s… @plus_info https://calenda-formation.labocleo.org/268727
LOCATION:Venice
END:VEVENT
BEGIN:VEVENT
DTSTART;VALUE=DATE:20131129
DTEND;VALUE=DATE:20131130
UID:268727-20131129@calenda.revues.org
SUMMARY:Melancholia/ae
URL:https://calenda-formation.labocleo.org/268727
DESCRIPTION:Il tema della malinconia\, nelle sue diverse declinazioni storico-artistiche\, mediche\, letterarie\, filosofiche\, psicologiche costituisce l’oggetto di una vasta letteratura. Del resto\, lo stesso termine “malinconia” è un termine polisemico\, associato s… @plus_info https://calenda-formation.labocleo.org/268727
LOCATION:Venice
END:VEVENT
END:VCALENDAR
