BEGIN:VCALENDAR
VERSION:2.0
PRODID:-//https://calenda-formation.labocleo.org
X-WR-CALNAME:Calenda
X-WR-TIMEZONE:Europe/Paris
CALSCALE:GREGORIAN
X-WR-CALDESC:The calendar for arts, humanities and social sciences
METHOD:PUBLISH
BEGIN:VEVENT
DTSTART;VALUE=DATE:20131205
DTEND;VALUE=DATE:20131206
UID:268761-20131205@calenda.revues.org
SUMMARY:The pathology of power: government crimes\, vices and crimes (Antiquity\, Middle Ages\, and the modern times)
URL:https://calenda-formation.labocleo.org/268761
DESCRIPTION:Colloque international sur la pathologie du pouvoir (antiquité\, Moyen Âge\, temps modernes) réunissant dans une approche diachronique et interdisciplinaire des historiens\, des juristes\, des philosophes et des littéraires. Il s'agit d'examiner à traver… @plus_info https://calenda-formation.labocleo.org/268761
LOCATION:Montpellier
END:VEVENT
BEGIN:VEVENT
DTSTART;VALUE=DATE:20131207
DTEND;VALUE=DATE:20131208
UID:268761-20131207@calenda.revues.org
SUMMARY:The pathology of power: government crimes\, vices and crimes (Antiquity\, Middle Ages\, and the modern times)
URL:https://calenda-formation.labocleo.org/268761
DESCRIPTION:Colloque international sur la pathologie du pouvoir (antiquité\, Moyen Âge\, temps modernes) réunissant dans une approche diachronique et interdisciplinaire des historiens\, des juristes\, des philosophes et des littéraires. Il s'agit d'examiner à traver… @plus_info https://calenda-formation.labocleo.org/268761
LOCATION:Montpellier
END:VEVENT
BEGIN:VEVENT
DTSTART;VALUE=DATE:20131206
DTEND;VALUE=DATE:20131207
UID:268761-20131206@calenda.revues.org
SUMMARY:The pathology of power: government crimes\, vices and crimes (Antiquity\, Middle Ages\, and the modern times)
URL:https://calenda-formation.labocleo.org/268761
DESCRIPTION:Colloque international sur la pathologie du pouvoir (antiquité\, Moyen Âge\, temps modernes) réunissant dans une approche diachronique et interdisciplinaire des historiens\, des juristes\, des philosophes et des littéraires. Il s'agit d'examiner à traver… @plus_info https://calenda-formation.labocleo.org/268761
LOCATION:Montpellier
END:VEVENT
END:VCALENDAR
