BEGIN:VCALENDAR
VERSION:2.0
PRODID:-//https://calenda-formation.labocleo.org
X-WR-CALNAME:Calenda
X-WR-TIMEZONE:Europe/Paris
CALSCALE:GREGORIAN
X-WR-CALDESC:Le calendrier des lettres et sciences humaines et sociales
METHOD:PUBLISH
BEGIN:VEVENT
DTSTART;VALUE=DATE:20131202
DTEND;VALUE=DATE:20131203
UID:268806-20131202@calenda.revues.org
SUMMARY:Les amazighes dans la tourmente des printemps arabes
URL:https://calenda-formation.labocleo.org/268806
DESCRIPTION:Ce panel s’intéressera au mouvement de revendication identitaire et linguistique berbère. Dans toute l’Afrique du Nord\, la revendication culturelle amazighe articule toute une série d’acteurs collectifs. La structuration organisationnelle\, la traject… Weitere Informationen https://calenda-formation.labocleo.org/268806
LOCATION:Ankara
END:VEVENT
END:VCALENDAR
