BEGIN:VCALENDAR
VERSION:2.0
PRODID:-//https://calenda-formation.labocleo.org
X-WR-CALNAME:Calenda
X-WR-TIMEZONE:Europe/Paris
CALSCALE:GREGORIAN
X-WR-CALDESC:Le calendrier des lettres et sciences humaines et sociales
METHOD:PUBLISH
BEGIN:VEVENT
DTSTART;VALUE=DATE:20140131
DTEND;VALUE=DATE:20140201
UID:268839-20140131@calenda.revues.org
SUMMARY:Interfaces franco-allemandes dans la culture populaire et les médias
URL:https://calenda-formation.labocleo.org/268839
DESCRIPTION:Au-delà des médiatieurs individuels ou institutionnels « classiques »\, les mass média font eux aussi partie des vecteurs centraux de transfert interculturel de la culture et du savoir. Ces « instances médiatrices non intentionnelles » (Umlauf / Colin… Más informaciones https://calenda-formation.labocleo.org/268839
LOCATION:Münster
END:VEVENT
END:VCALENDAR
