BEGIN:VCALENDAR
VERSION:2.0
PRODID:-//https://calenda-formation.labocleo.org
X-WR-CALNAME:Calenda
X-WR-TIMEZONE:Europe/Paris
CALSCALE:GREGORIAN
X-WR-CALDESC:Le calendrier des lettres et sciences humaines et sociales
METHOD:PUBLISH
BEGIN:VEVENT
DTSTART;VALUE=DATE:20131205
DTEND;VALUE=DATE:20131206
UID:268996-20131205@calenda.revues.org
SUMMARY:Des pleureuses au « deuils planétaires »
URL:https://calenda-formation.labocleo.org/268996
DESCRIPTION:La fin du XXe siècle semble avoir inventé le phénomène du « deuil planétaire » : les morts de John Fitzgerald Kennedy (1963)\, du général de Gaulle (1970)\, d’Elvis Presley (1977)\, de la princesse Diana (1997) ou de Michael Jackson (2009) eurent un ret… Más informaciones https://calenda-formation.labocleo.org/268996
LOCATION:Tours
END:VEVENT
BEGIN:VEVENT
DTSTART;VALUE=DATE:20131206
DTEND;VALUE=DATE:20131207
UID:268996-20131206@calenda.revues.org
SUMMARY:Des pleureuses au « deuils planétaires »
URL:https://calenda-formation.labocleo.org/268996
DESCRIPTION:La fin du XXe siècle semble avoir inventé le phénomène du « deuil planétaire » : les morts de John Fitzgerald Kennedy (1963)\, du général de Gaulle (1970)\, d’Elvis Presley (1977)\, de la princesse Diana (1997) ou de Michael Jackson (2009) eurent un ret… Más informaciones https://calenda-formation.labocleo.org/268996
LOCATION:Tours
END:VEVENT
END:VCALENDAR
