BEGIN:VCALENDAR
VERSION:2.0
PRODID:-//https://calenda-formation.labocleo.org
X-WR-CALNAME:Calenda
X-WR-TIMEZONE:Europe/Paris
CALSCALE:GREGORIAN
X-WR-CALDESC:The calendar for arts, humanities and social sciences
METHOD:PUBLISH
BEGIN:VEVENT
DTSTART;VALUE=DATE:20131205
DTEND;VALUE=DATE:20131206
UID:269488-20131205@calenda.revues.org
SUMMARY:Declinations of feminine spaces post-conflict
URL:https://calenda-formation.labocleo.org/269488
DESCRIPTION:En évoquant les « déclinaisons » des « espaces féminins »\, nous nous proposons d’analyser et d’explorer les rôles que jouent les espaces privés ou publics occupés par les femmes lors des conflits et dans les périodes qui leur font suite. Comment les … @plus_info https://calenda-formation.labocleo.org/269488
LOCATION:Limoges
END:VEVENT
BEGIN:VEVENT
DTSTART;VALUE=DATE:20131206
DTEND;VALUE=DATE:20131207
UID:269488-20131206@calenda.revues.org
SUMMARY:Declinations of feminine spaces post-conflict
URL:https://calenda-formation.labocleo.org/269488
DESCRIPTION:En évoquant les « déclinaisons » des « espaces féminins »\, nous nous proposons d’analyser et d’explorer les rôles que jouent les espaces privés ou publics occupés par les femmes lors des conflits et dans les périodes qui leur font suite. Comment les … @plus_info https://calenda-formation.labocleo.org/269488
LOCATION:Limoges
END:VEVENT
END:VCALENDAR
