BEGIN:VCALENDAR
VERSION:2.0
PRODID:-//https://calenda-formation.labocleo.org
X-WR-CALNAME:Calenda
X-WR-TIMEZONE:Europe/Paris
CALSCALE:GREGORIAN
X-WR-CALDESC:Le calendrier des lettres et sciences humaines et sociales
METHOD:PUBLISH
BEGIN:VEVENT
DTSTART;VALUE=DATE:20140205
DTEND;VALUE=DATE:20140206
UID:269582-20140205@calenda.revues.org
SUMMARY:Les institutions du travail : quelles réévaluations ?
URL:https://calenda-formation.labocleo.org/269582
DESCRIPTION:La revue Travail et Emploi souhaite consacrer un numéro aux analyses appliquées des institutions du travail et à leurs liens avec le fonctionnement du marché du travail\, ce qui englobe les dynamiques macroéconomiques et les cycles ainsi que la problé… Weitere Informationen https://calenda-formation.labocleo.org/269582
LOCATION:
END:VEVENT
END:VCALENDAR
