BEGIN:VCALENDAR
VERSION:2.0
PRODID:-//https://calenda-formation.labocleo.org
X-WR-CALNAME:Calenda
X-WR-TIMEZONE:Europe/Paris
CALSCALE:GREGORIAN
X-WR-CALDESC:The calendar for arts, humanities and social sciences
METHOD:PUBLISH
BEGIN:VEVENT
DTSTART;VALUE=DATE:20140116
DTEND;VALUE=DATE:20140117
UID:269608-20140116@calenda.revues.org
SUMMARY:The digital age for young researchers and lecturers in the humanities
URL:https://calenda-formation.labocleo.org/269608
DESCRIPTION:Tout doctorant en humanités intègre aujourd'hui la dimension numérique dès le début de sa réflexion. Ce séminaire à visée essentiellement pratique a trois objectifs principaux : le mettre en contact avec de jeunes thésards et spécialistes de la publi… @plus_info https://calenda-formation.labocleo.org/269608
LOCATION:Paris
END:VEVENT
END:VCALENDAR
