BEGIN:VCALENDAR
VERSION:2.0
PRODID:-//https://calenda-formation.labocleo.org
X-WR-CALNAME:Calenda
X-WR-TIMEZONE:Europe/Paris
CALSCALE:GREGORIAN
X-WR-CALDESC:O calendário de letras e de ciências sociais e humanas
METHOD:PUBLISH
BEGIN:VEVENT
DTSTART;VALUE=DATE:20140515
DTEND;VALUE=DATE:20140516
UID:269726-20140515@calenda.revues.org
SUMMARY:Sociétés\, mobilités\, déplacements : les territoires de l'attente d'hier à aujourd'hui
URL:https://calenda-formation.labocleo.org/269726
DESCRIPTION:Les phénomènes de mobilité et de déplacement s’affirment comme des caractéristiques majeures de nos sociétés contemporaines. Pour autant\, loin d’être fluides\, homogènes ou linéaires\, ces déplacements sont ponctués de temps\, plus ou moins longs\, d’att… @plus_info https://calenda-formation.labocleo.org/269726
LOCATION:La Rochelle
END:VEVENT
END:VCALENDAR
