BEGIN:VCALENDAR
VERSION:2.0
PRODID:-//https://calenda-formation.labocleo.org
X-WR-CALNAME:Calenda
X-WR-TIMEZONE:Europe/Paris
CALSCALE:GREGORIAN
X-WR-CALDESC:The calendar for arts, humanities and social sciences
METHOD:PUBLISH
BEGIN:VEVENT
DTSTART;VALUE=DATE:20140115
DTEND;VALUE=DATE:20140116
UID:269742-20140115@calenda.revues.org
SUMMARY:The arbiter of Europe. Setting\, thinking and contesting political hierarchies in Europe
URL:https://calenda-formation.labocleo.org/269742
DESCRIPTION:Ce colloque se penchera sur la notion d'arbitre de l'Europe\, du XVIe siècle à nos jours. La notion d'arbitre s'entend ici non pas au sens d'arbitrage juridique des conflits\, mais au sens de médiation et de prescription\, de validation\, de modification… @plus_info https://calenda-formation.labocleo.org/269742
LOCATION:Paris
END:VEVENT
END:VCALENDAR
