BEGIN:VCALENDAR
VERSION:2.0
PRODID:-//https://calenda-formation.labocleo.org
X-WR-CALNAME:Calenda
X-WR-TIMEZONE:Europe/Paris
CALSCALE:GREGORIAN
X-WR-CALDESC:The calendar for arts, humanities and social sciences
METHOD:PUBLISH
BEGIN:VEVENT
DTSTART;VALUE=DATE:20131218
DTEND;VALUE=DATE:20131219
UID:270260-20131218@calenda.revues.org
SUMMARY:Natural heritage and tourism and Maghreb (19th-21st centuries)
URL:https://calenda-formation.labocleo.org/270260
DESCRIPTION:Si l’orientalisme a certainement été une des sources du tourisme au Maghreb dès le XIXème siècle\, si les voyageurs ont été attirés par les villes et les monuments du passé de l’Afrique du Nord\, il est néanmoins certain que la séduction du milieu natu… @plus_info https://calenda-formation.labocleo.org/270260
LOCATION:Rabat
END:VEVENT
BEGIN:VEVENT
DTSTART;VALUE=DATE:20131219
DTEND;VALUE=DATE:20131220
UID:270260-20131219@calenda.revues.org
SUMMARY:Natural heritage and tourism and Maghreb (19th-21st centuries)
URL:https://calenda-formation.labocleo.org/270260
DESCRIPTION:Si l’orientalisme a certainement été une des sources du tourisme au Maghreb dès le XIXème siècle\, si les voyageurs ont été attirés par les villes et les monuments du passé de l’Afrique du Nord\, il est néanmoins certain que la séduction du milieu natu… @plus_info https://calenda-formation.labocleo.org/270260
LOCATION:Rabat
END:VEVENT
END:VCALENDAR
