BEGIN:VCALENDAR
VERSION:2.0
PRODID:-//https://calenda-formation.labocleo.org
X-WR-CALNAME:Calenda
X-WR-TIMEZONE:Europe/Paris
CALSCALE:GREGORIAN
X-WR-CALDESC:The calendar for arts, humanities and social sciences
METHOD:PUBLISH
BEGIN:VEVENT
DTSTART;VALUE=DATE:20140115
DTEND;VALUE=DATE:20140116
UID:270326-20140115@calenda.revues.org
SUMMARY:Researcher position in socio/anthropology of health 
URL:https://calenda-formation.labocleo.org/270326
DESCRIPTION:Dans le cadre de l’étude ASHAM (Approche sociologique des habitudes de vie des adultes atteints de dystrophie myotonique de type 1)\, financée par la Fondation pour les maladies rares\, la MSH Ange-Guépin (Nantes) recrute un-e chargé-e d’études à mi-te… @plus_info https://calenda-formation.labocleo.org/270326
LOCATION:Nantes
END:VEVENT
END:VCALENDAR
