BEGIN:VCALENDAR
VERSION:2.0
PRODID:-//https://calenda-formation.labocleo.org
X-WR-CALNAME:Calenda
X-WR-TIMEZONE:Europe/Paris
CALSCALE:GREGORIAN
X-WR-CALDESC:The calendar for arts, humanities and social sciences
METHOD:PUBLISH
BEGIN:VEVENT
DTSTART;VALUE=DATE:20140115
DTEND;VALUE=DATE:20140116
UID:270945-20140115@calenda.revues.org
SUMMARY:Defenders of peace\, 1899-1917
URL:https://calenda-formation.labocleo.org/270945
DESCRIPTION:À l'aube du centenaire de la première guerre mondiale\, l’université Paris-Est et l’Institut historique allemand proposent de réfléchir sur l'écroulement de la paix et sur l'échec de ceux qui ont voulu empêcher l'éclatement d'une grande guerre europée… @plus_info https://calenda-formation.labocleo.org/270945
LOCATION:Paris
END:VEVENT
BEGIN:VEVENT
DTSTART;VALUE=DATE:20140116
DTEND;VALUE=DATE:20140117
UID:270945-20140116@calenda.revues.org
SUMMARY:Defenders of peace\, 1899-1917
URL:https://calenda-formation.labocleo.org/270945
DESCRIPTION:À l'aube du centenaire de la première guerre mondiale\, l’université Paris-Est et l’Institut historique allemand proposent de réfléchir sur l'écroulement de la paix et sur l'échec de ceux qui ont voulu empêcher l'éclatement d'une grande guerre europée… @plus_info https://calenda-formation.labocleo.org/270945
LOCATION:Paris
END:VEVENT
BEGIN:VEVENT
DTSTART;VALUE=DATE:20140117
DTEND;VALUE=DATE:20140118
UID:270945-20140117@calenda.revues.org
SUMMARY:Defenders of peace\, 1899-1917
URL:https://calenda-formation.labocleo.org/270945
DESCRIPTION:À l'aube du centenaire de la première guerre mondiale\, l’université Paris-Est et l’Institut historique allemand proposent de réfléchir sur l'écroulement de la paix et sur l'échec de ceux qui ont voulu empêcher l'éclatement d'une grande guerre europée… @plus_info https://calenda-formation.labocleo.org/270945
LOCATION:Paris
END:VEVENT
END:VCALENDAR
