BEGIN:VCALENDAR
VERSION:2.0
PRODID:-//https://calenda-formation.labocleo.org
X-WR-CALNAME:Calenda
X-WR-TIMEZONE:Europe/Paris
CALSCALE:GREGORIAN
X-WR-CALDESC:O calendário de letras e de ciências sociais e humanas
METHOD:PUBLISH
BEGIN:VEVENT
DTSTART;VALUE=DATE:20140414
DTEND;VALUE=DATE:20140415
UID:272166-20140414@calenda.revues.org
SUMMARY:Reinventing Citizenship
URL:https://calenda-formation.labocleo.org/272166
DESCRIPTION:The International Network for Alternative Academia invites you to participate to the 7th International Symposium: Reinventing Citizenship\, to be held on Monday 12th to Wednesday 14th of May\, 2014 in Toronto\, Ontario\, Canada. This trans-disciplinary p… @plus_info https://calenda-formation.labocleo.org/272166
LOCATION:Toronto
END:VEVENT
END:VCALENDAR
